BEGIN:VCALENDAR
VERSION:2.0
PRODID:-//eventon.com NONSGML v1.0//EN
BEGIN:VEVENT
UID:69e73654157cd
DTSTAMP:20260421T093324
DTSTART:20260212T110000Z
DTEND:20260212T225000Z
TZID:Europe/Budapest
LOCATION:
SUMMARY:Foglalkozás
DESCRIPTION: Február 12\,  csütörtök\,  12 óra. Magyarpolány\,  Kerek Nap Német Nemzetiségi Nyelvoktató Általános iskola és Alapfokú Művészeti Iskola Az alkotók egyikével történő beszélgetés. Moderátor Dr. Várszegi Tibor. &nbsp; Belépőjegy: 100 Ft.
URL:https://malomszinhaz.hu/events/foglalkozas-4/
END:VEVENT
END:VCALENDAR