BEGIN:VCALENDAR
VERSION:2.0
PRODID:-//eventon.com NONSGML v1.0//EN
BEGIN:VEVENT
UID:69e8850552f91
DTSTAMP:20260422T092125
DTSTART:20201206T100000Z
DTEND:20201206T235000Z
LOCATION:
SUMMARY:15 óra<br>Ha betér az égi király<br><font size="2">magyar népi betlehemes játék</font><br>Fabók Mancsi Bábszínháza<br><font size="2">Dörgicse – evangélikus templom a Levendárium mellett</font><br><br>
DESCRIPTION: „Öregapámtúl hallottam\,  hogy jeles ünnep alkalmával – amennyiben kellőképpen felkészült\,  megfényesedett a test és a lélek – Ég a Földdel összeér. S a Mennyeknek kapuján olyankor bélátni. Úgy mesélte\,  hogy egyenest az Úristen szeme közi lehet olyankor nézni! – No\,  de emlékezzünk csak: hogy es vót ez 2018 évvel ez[..]
URL:https://malomszinhaz.hu/events/15-oraha-beter-az-egi-kiralymagyar-nepi-betlehemes-jatekfabok-mancsi-babszinhazadorgicse-evangelikus-templom-a-levendarium-mellett/
END:VEVENT
END:VCALENDAR