BEGIN:VCALENDAR
VERSION:2.0
PRODID:-//eventon.com NONSGML v1.0//EN
BEGIN:VEVENT
UID:69e735940023d
DTSTAMP:20260421T093012
DTSTART:20171207T183000Z
DTEND:20171207T000000Z
LOCATION:
SUMMARY:18:30<br><br>Hubertusz - Konszolidációs móka<br><br>Beregszászi színház
DESCRIPTION: &nbsp; Az 1956-os forradalom éppen véget ért\,  a romok között temetnek egy forradalmárt. Ez az alaphelyzet Zelei Miklós darabjában\,  amiből az egész mese kibontakozik. Ebből nő ki a nagyon erős és határozott cselekményszál egy fiatal lány és egy álpap között\,  ami viszonylag zártan és foszlányosan egy árulástörténetet mesél el; arról[..]
URL:https://malomszinhaz.hu/events/1830hubertuszkonszolidacios-mokaberegszaszi-szinhaz/
END:VEVENT
END:VCALENDAR